BEGIN:VCALENDAR
PRODID:-//testsite//EN
X-WR-TIMEZONE:US/Eastern
BEGIN:VEVENT
DTSTART;TZID=US/Eastern:20220401T100000
DTEND;TZID=US/Eastern:20220421T120000
LOCATION:2000 N Adams St #423
DESCRIPTION;ENCODING=QUOTED-PRINTABLE:0401 ticketed hybrid event
SUMMARY:0401 ticketed hybrid event
X-MICROSOFT-CDO-BUSYSTATUS:OOF
PRIORITY:5
END:VEVENT
END:VCALENDAR
