BEGIN:VCALENDAR
PRODID:-//testsite//EN
X-WR-TIMEZONE:US/Eastern
BEGIN:VEVENT
DTSTART;TZID=US/Eastern:20220302T100000
DTEND;TZID=US/Eastern:20220331T120000
LOCATION:
DESCRIPTION;ENCODING=QUOTED-PRINTABLE:0302 event
SUMMARY:0302 event
X-MICROSOFT-CDO-BUSYSTATUS:OOF
PRIORITY:5
END:VEVENT
END:VCALENDAR
