BEGIN:VCALENDAR
PRODID:-//testsite//EN
X-WR-TIMEZONE:US/Eastern
BEGIN:VEVENT
DTSTART;TZID=US/Eastern:20220225T100000
DTEND;TZID=US/Eastern:20220301T120000
LOCATION:test lane 123
DESCRIPTION;ENCODING=QUOTED-PRINTABLE:0225 event 2
SUMMARY:0225 event 2
X-MICROSOFT-CDO-BUSYSTATUS:OOF
PRIORITY:5
END:VEVENT
END:VCALENDAR
