BEGIN:VCALENDAR
PRODID:-//testsite//EN
X-WR-TIMEZONE:US/Eastern
BEGIN:VEVENT
DTSTART;TZID=US/Eastern:20220822T000000
DTEND;TZID=US/Eastern:20220830T000000
LOCATION:Central Park S, New York, NY
DESCRIPTION;ENCODING=QUOTED-PRINTABLE:Sai's Event Description....
SUMMARY:Sai's Event Title
X-MICROSOFT-CDO-BUSYSTATUS:OOF
PRIORITY:5
END:VEVENT
END:VCALENDAR
